Workbook

Sheet výkaz práce - HPP
A1: Příloha č. 11 dotačního programu
A2: Výkaz práce za měsíc
A3: Žadatel | G3: IČO
A4: Název projektu
A5: Příjmení a jméno | G5: Úvazek HPP
A6: Role v projektu | G6: Celkem hodin/měsíc | J6: =NETWORKDAYS(DATE($H$2,$G$2,1),EOMONTH(DATE($H$2,$G$2,1),0),'Svátky - NESAHAT'!D2:D1048576)*(8*J5) -> #NUM!
A7: Den | B7: Druh činnosti | G7: Místo provedení práce | J7: Odpracované hodiny (na projektu) | L7: POKYNY K VYPLNĚNÍ VÝKAZU PRÁCE
A8: 1
A9: 2 | L9: Formátování výkazu práce je nastaveno na automatické počítání! DO ŠEDÝCH POLÍ NEPIŠTE!
A10: 3
A11: 4
A12: 5 | L12: Postupně vyplňte tyto buňky: | O12: vyplňte měsíc a rok (buňky G2 a H2) - POZOR: měsíc vyplňujte číslovkou
A13: 6 | O13: vyplňte žadatele, IČO, název projektu, přijmení a jméno a roli v projektu
A14: 7 | O14: vyplňte výši úvazku - POZOR: max. hodnota buňky J5 může být 1 (= 40 hodin týdně)
A15: 8 | O15: vyplňte jednotlivé dny výkazu (druh činnosti, místo provedení práce a počet odpracovaných hodin na projektu)
A16: 9
A17: 10 | O17: vyplňte plnou hrubou mzdu za daný měsíc
A18: 11
A19: 12 | Q19: !POZOR!
A20: 13 | N20: nepřesouvejte výkaz práce z tohoto excel sešitu - došlo by k poškození vzorců a výpočty by přestaly fungovat!
A21: 14
A22: 15
A23: 16
A24: 17
A25: 18
A26: 19
A27: 20
A28: 21
A29: 22
A30: 23
A31: 24
A32: 25
... A38: 31
A39: Odpracováno celkem (na projektu) | J39: =SUM(J8:J38) -> 0
A41: Hrubá mzda
A42: Výše uznatelných nákladů | J42: =(J39/J6)*J41 -> #NUM!
A43: Z toho hrazeno z dotace | J43: =0.6*J42 -> #NUM!
A45: Podpis | C45: Pracovník | G45: Vedoucí
C49: Dne | G49: Dne

Sheet výkaz práce - dohody
A2: Výkaz práce za měsíc
A3: Žadatel | G3: IČO
A4: Název projektu
A5: Příjmení a jméno
A6: Role v projektu | G6: Celkem hodin/měsíc
A7: Den | B7: Druh činnosti | G7: Místo provedení práce | J7: Odpracované hodiny (na projektu) | L7: POKYNY K VYPLNĚNÍ VÝKAZU PRÁCE
A8: 1
A9: 2 | L9: Formátování výkazu práce je nastaveno na automatické počítání! DO ŠEDÝCH POLÍ NEPIŠTE!
A10: 3
A11: 4
A12: 5 | L12: Postupně vyplňte tyto buňky: | O12: vyplňte měsíc a rok (buňky G2 a H2) - POZOR: měsíc vyplňujte číslovkou
A13: 6 | O13: vyplňte žadatele, IČO, název projektu, přijmení a jméno a roli v projektu
A14: 7 | O14: vyplňte celkový počet odpracovaných hodin za měsíc (vč. dovolené)
A15: 8 | O15: vyplňte jednotlivé dny výkazu (druh činnosti, místo provedení práce a počet odpracovaných hodin na projektu)
A16: 9
A17: 10 | O17: vyplňte plnou hrubou mzdu za daný měsíc
A18: 11
A19: 12 | Q19: !POZOR!
A20: 13 | N20: nepřesouvejte výkaz práce z tohoto excel sešitu - došlo by k poškození vzorců a výpočty by přestaly fungovat!
A21: 14
A22: 15
A23: 16
A24: 17
A25: 18
A26: 19
A27: 20
A28: 21
A29: 22
A30: 23
A31: 24
A32: 25
... A38: 31
A39: Odpracováno celkem (na projektu) | J39: =SUM(J8:J38) -> 0
A41: Hrubá mzda
A42: Výše uznatelných nákladů | J42: =(J39/J6)*J41 -> #DIV/0!
A43: Z toho hrazeno z dotace | J43: =0.6*J42 -> #DIV/0!
A45: Podpis | C45: Pracovník | G45: Vedoucí
C49: Dne | G49: Dne

Sheet výkaz práce - HPP - VZOR
A2: Výkaz práce za měsíc | G2: 10 | H2: 2026
A3: Žadatel | G3: IČO
A4: Název projektu
A5: Příjmení a jméno | G5: Úvazek HPP | J5: 0.5
A6: Role v projektu | G6: Celkem hodin/měsíc | J6: =NETWORKDAYS(DATE($H$2,$G$2,1),EOMONTH(DATE($H$2,$G$2,1),0),'Svátky - NESAHAT'!D2:D1048576)*(8*J5) -> 88
A7: Den | B7: Druh činnosti | G7: Místo provedení práce | J7: Odpracované hodiny (na projektu) | L7: POKYNY K VYPLNĚNÍ VÝKAZU PRÁCE
A8: 1 | B8: xxx | G8: xxx | J8: 8
A9: 2 | B9: xxx | G9: xxx | J9: 8 | L9: Formátování výkazu práce je nastaveno na automatické počítání! DO ŠEDÝCH POLÍ NEPIŠTE!
A10: 3 | B10: xxx | G10: xxx | J10: 8
A11: 4
A12: 5 | L12: Postupně vyplňte tyto buňky: | O12: vyplňte měsíc a rok (buňky G2 a H2) - POZOR: měsíc vyplňujte číslovkou
A13: 6 | O13: vyplňte žadatele, IČO, název projektu, přijmení a jméno a roli v projektu
A14: 7 | O14: vyplňte výši úvazku - POZOR: max. hodnota buňky J5 může být 1 (= 40 hodin týdně)
A15: 8 | O15: vyplňte jednotlivé dny výkazu (druh činnosti, místo provedení práce a počet odpracovaných hodin na projektu)
A16: 9
A17: 10 | O17: vyplňte plnou hrubou mzdu za daný měsíc
A18: 11
A19: 12 | Q19: !POZOR!
A20: 13 | N20: nepřesouvejte výkaz práce z tohoto excel sešitu - došlo by k poškození vzorců a výpočty by přestaly fungovat!
A21: 14
A22: 15
A23: 16
A24: 17
A25: 18
A26: 19
A27: 20
A28: 21
A29: 22
A30: 23
A31: 24
A32: 25
... A38: 31
A39: Odpracováno celkem (na projektu) | J39: =SUM(J8:J38) -> 24
A41: Hrubá mzda | J41: 30000
A42: Výše uznatelných nákladů | J42: =(J39/J6)*J41 -> 8181.8182
A43: Z toho hrazeno z dotace | J43: =0.6*J42 -> 4909.0909
A45: Podpis | C45: Pracovník | G45: Vedoucí
C49: Dne | G49: Dne

Sheet výkaz práce - dohody - VZOR
A2: Výkaz práce za měsíc | G2: 10 | H2: 2026
A3: Žadatel | G3: IČO
A4: Název projektu
A5: Příjmení a jméno
A6: Role v projektu | G6: Celkem hodin/měsíc | J6: 70
A7: Den | B7: Druh činnosti | G7: Místo provedení práce | J7: Odpracované hodiny (na projektu) | L7: POKYNY K VYPLNĚNÍ VÝKAZU PRÁCE
A8: 1 | B8: xxx | G8: xxx | J8: 8
A9: 2 | B9: xxx | G9: xxx | J9: 8 | L9: Formátování výkazu práce je nastaveno na automatické počítání! DO ŠEDÝCH POLÍ NEPIŠTE!
A10: 3 | B10: xxx | G10: xxx | J10: 8
A11: 4
A12: 5 | L12: Postupně vyplňte tyto buňky: | O12: vyplňte měsíc a rok (buňky G2 a H2) - POZOR: měsíc vyplňujte číslovkou
A13: 6 | O13: vyplňte žadatele, IČO, název projektu, přijmení a jméno a roli v projektu
A14: 7 | O14: vyplňte celkový počet odpracovaných hodin za měsíc (vč. dovolené)
A15: 8 | O15: vyplňte jednotlivé dny výkazu (druh činnosti, místo provedení práce a počet odpracovaných hodin na projektu)
A16: 9
A17: 10 | O17: vyplňte plnou hrubou mzdu za daný měsíc
A18: 11
A19: 12 | Q19: !POZOR!
A20: 13 | N20: nepřesouvejte výkaz práce z tohoto excel sešitu - došlo by k poškození vzorců a výpočty by přestaly fungovat!
A21: 14
A22: 15
A23: 16
A24: 17
A25: 18
A26: 19
A27: 20
A28: 21
A29: 22
A30: 23
A31: 24
A32: 25
... A38: 31
A39: Odpracováno celkem (na projektu) | J39: =SUM(J8:J38) -> 24
A41: Hrubá mzda | J41: 15000
A42: Výše uznatelných nákladů | J42: =(J39/J6)*J41 -> 5142.8571
A43: Z toho hrazeno z dotace | J43: =0.6*J42 -> 3085.7143
A45: Podpis | C45: Pracovník | G45: Vedoucí
C49: Dne | G49: Dne

Sheet Svátky - NESAHAT
A1: den | B1: měsíc | C1: rok HPP | D1: Datum | E1: Název | F1: Seznam upravovat POUZE v případě, že bude přidán či odebrán státní svátek (např. se vyhlásí svátek ještě 31. prosince)
A2: 1 | B2: 1 | C2: ='výkaz práce - HPP'!$H$2 -> 0 | D2: =DATE(C2,$B2,$A2) -> 1 | E2: Den obnovy samostatného českého státu, Nový rok
C3: ='výkaz práce - HPP'!$H$2 -> 0 | D3: =(DATE(C3,3,21)+ MOD(19*MOD(C3,19)-6,30)-INT(MOD(19*MOD(C3,19)-6,30)/28) +8-WEEKDAY( DATE(C3,3,21)+ MOD(19*MOD(C3,19)-6,30)-INT(MOD(19*MOD(C3,19)-6,30)/28),1))-2 -> 104 | E3: Velký pátek
C4: ='výkaz práce - HPP'!$H$2 -> 0 | D4: =(DATE(C4,3,21)+ MOD(19*MOD(C4,19)-6,30)-INT(MOD(19*MOD(C4,19)-6,30)/28) +8-WEEKDAY( DATE(C4,3,21)+ MOD(19*MOD(C4,19)-6,30)-INT(MOD(19*MOD(C4,19)-6,30)/28),1))+1 -> 107 | E4: Velikonoční pondělí
A5: 1 | B5: 5 | C5: ='výkaz práce - HPP'!$H$2 -> 0 | D5: =DATE(C5,$B5,$A5) -> 122 | E5: Svátek práce
A6: 8 | B6: 5 | C6: ='výkaz práce - HPP'!$H$2 -> 0 | D6: =DATE(C6,$B6,$A6) -> 129 | E6: Den vítězství
A7: 5 | B7: 7 | C7: ='výkaz práce - HPP'!$H$2 -> 0 | D7: =DATE(C7,$B7,$A7) -> 187 | E7: Den slovanských věrozvěstů Cyrila a Metoděje
A8: 6 | B8: 7 | C8: ='výkaz práce - HPP'!$H$2 -> 0 | D8: =DATE(C8,$B8,$A8) -> 188 | E8: Den upálení mistra Jana Husa
A9: 28 | B9: 9 | C9: ='výkaz práce - HPP'!$H$2 -> 0 | D9: =DATE(C9,$B9,$A9) -> 272 | E9: Den české státnosti | F9: Výpočet Velikonoc funguje pouze pro data od roku 1900 do roku 2199
A10: 28 | B10: 10 | C10: ='výkaz práce - HPP'!$H$2 -> 0 | D10: =DATE(C10,$B10,$A10) -> 302 | E10: Den vzniku samostatného československého státu | F10: Výpočet Velikonoc funguje pouze pro data od roku 1900 do roku 2199
A11: 17 | B11: 11 | C11: ='výkaz práce - HPP'!$H$2 -> 0 | D11: =DATE(C11,$B11,$A11) -> 322 | E11: Den boje za svobodu a demokracii
A12: 24 | B12: 12 | C12: ='výkaz práce - HPP'!$H$2 -> 0 | D12: =DATE(C12,$B12,$A12) -> 359 | E12: Štědrý den
A13: 25 | B13: 12 | C13: ='výkaz práce - HPP'!$H$2 -> 0 | D13: =DATE(C13,$B13,$A13) -> 360 | E13: 1. svátek vánoční
A14: 26 | B14: 12 | C14: ='výkaz práce - HPP'!$H$2 -> 0 | D14: =DATE(C14,$B14,$A14) -> 361 | E14: 2. svátek vánoční
